BEGIN:VCALENDAR
VERSION:2.0
PRODID:-//ChamberMaster//Event Calendar 2.0//EN
METHOD:PUBLISH
X-PUBLISHED-TTL:P3D
REFRESH-INTERVAL:P3D
CALSCALE:GREGORIAN
BEGIN:VEVENT
DTSTART:20250326T223000Z
DTEND:20250327T030000Z
X-MICROSOFT-CDO-ALLDAYEVENT:FALSE
SUMMARY:UC Health Presents: Calling All Night EMTs & Paramedics @ UCMC March 26th @6:30pm
DESCRIPTION:Job Description\n\n\n\nUC Health is an integrated academic health system serving Greater Cincinnati and Northern Kentucky. In partnership with the University of Cincinnati\, UC Health combines clinical expertise and compassion with research and teaching-a combination that provides patients with options for even the most complex situations.\n\n\n\nWHO: EMTs & Paramedics\n\nWHAT: UC Health Hiring Event for Night Shift EMTs and Paramedics in the Emergency Department and Air Care Mobile Care\n\nWHERE: UC Medical Center - 3188 Bellevue Ave Cincinnati\, OHI 45219 - meet in the Lobby of hospital at 6:30pm \n\nWHEN: Registration is at 6:30pm with human resources. You will then have the opportunity to interview and tour/shadow.
X-ALT-DESC;FMTTYPE=text/html:<span style="color:rgb(33\, 37\, 41)\; font-family:verlag-book\; font-size:18px">Job Description</span><br>\n<br>\n<span style="color:rgb(33\, 37\, 41)\; font-family:verlag-book\; font-size:18px">UC Health is an integrated academic health system serving Greater Cincinnati and Northern Kentucky. In partnership with the University of Cincinnati\, UC Health combines clinical expertise and compassion with research and teaching-a combination that provides patients with options for even the most complex situations.</span><br>\n<br>\n<span style="color:rgb(33\, 37\, 41)\; font-family:verlag-book\; font-size:18px">WHO:</span><span style="color:rgb(33\, 37\, 41)\; font-family:verlag-book\; font-size:18px">&nbsp\;EMTs &amp\; Paramedics</span><br>\n<span style="color:rgb(33\, 37\, 41)\; font-family:verlag-book\; font-size:18px">WHAT:&nbsp\;</span><span style="color:rgb(33\, 37\, 41)\; font-family:verlag-book\; font-size:18px">UC Health Hiring Event for Night Shift EMTs and Paramedics in the Emergency Department and Air Care Mobile Care</span><br>\n<span style="color:rgb(33\, 37\, 41)\; font-family:verlag-book\; font-size:18px">WHERE:&nbsp\;</span><span style="color:rgb(33\, 37\, 41)\; font-family:verlag-book\; font-size:18px">UC Medical Center - 3188 Bellevue Ave Cincinnati\, OHI 45219 -&nbsp\;</span><span style="color:rgb(33\, 37\, 41)\; font-family:verlag-book\; font-size:18px">meet in the Lobby of hospital at 6:30pm&nbsp\;</span><br>\n<span style="color:rgb(33\, 37\, 41)\; font-family:verlag-book\; font-size:18px">WHEN:&nbsp\;</span><span style="color:rgb(33\, 37\, 41)\; font-family:verlag-book\; font-size:18px">Registration is at 6:30pm with human resources. You will then have the opportunity to interview and tour/shadow.</span>
LOCATION:
UID:e.717.7884
SEQUENCE:3
DTSTAMP:20260421T152338Z
URL:https://members.theaachamber.com/events/details/uc-health-presents-calling-all-night-emts-paramedics-ucmc-march-26th-6-30pm-7884
END:VEVENT

END:VCALENDAR
