BEGIN:VCALENDAR
VERSION:2.0
PRODID:-//ChamberMaster//Event Calendar 2.0//EN
METHOD:PUBLISH
X-PUBLISHED-TTL:P3D
REFRESH-INTERVAL:P3D
CALSCALE:GREGORIAN
BEGIN:VEVENT
DTSTART;VALUE=DATE:20250413
DTEND;VALUE=DATE:20250414
TRANSP:TRANSPARENT
X-MICROSOFT-CDO-ALLDAYEVENT:TRUE
SUMMARY:Taft Museum: FREE! Family Funday
DESCRIPTION:FREE! Family Fundays\n\nEarth Day Art  \n\nCelebrate Earth Day with us. Make upcycled art all day under the tent. Rock out with School of Rock Cincinnati and Northern Kentucky in the afternoon.\n\nThis is a free event! Registration is not required. \n\nQuestions? Contact education@taftmuseum.org.
X-ALT-DESC;FMTTYPE=text/html:<h3><span style="color:rgb(43\, 155\, 98)"><strong>FREE! Family Fundays</strong></span></h3>\n\n<p><strong>Earth Day Art&nbsp\;&nbsp\;</strong></p>\n\n<p>Celebrate Earth Day with us. Make upcycled art all day under the tent. Rock out with <a class="fui-Link ___1q1shib f2hkw1w f3rmtva f1ewtqcl fyind8e f1k6fduh f1w7gpdv fk6fouc fjoy568 figsok6 f1s184ao f1mk8lai fnbmjn9 f1o700av f13mvf36 f1cmlufx f9n3di6 f1ids18y f1tx3yz7 f1deo86v f1eh06m1 f1iescvh fhgqx19 f1olyrje f1p93eir f1nev41a f1h8hb77 f1lqvz6u f10aw75t fsle3fq f17ae5zn" href="https://www.schoolofrock.com/locations/cincinnati" id="menur1t6" rel="noreferrer noopener" target="_blank" title="https://www.schoolofrock.com/locations/cincinnati">School of Rock Cincinnati and Northern Kentucky</a> in the afternoon.</p>\n\n<p>This is a free event! Registration is not required.&nbsp\;</p>\n\n<p><strong>Questions?</strong> Contact <a class="fui-Link ___1q1shib f2hkw1w f3rmtva f1ewtqcl fyind8e f1k6fduh f1w7gpdv fk6fouc fjoy568 figsok6 f1s184ao f1mk8lai fnbmjn9 f1o700av f13mvf36 f1cmlufx f9n3di6 f1ids18y f1tx3yz7 f1deo86v f1eh06m1 f1iescvh fhgqx19 f1olyrje f1p93eir f1nev41a f1h8hb77 f1lqvz6u f10aw75t fsle3fq f17ae5zn" href="mailto:education@taftmuseum.org" id="menur1t8" rel="noreferrer noopener" target="_blank" title="mailto:education@taftmuseum.org">education@taftmuseum.org</a>.</p>\n
LOCATION:Taft Museum of Art 316 Pike Street Cincinnati\, OH 45202
UID:e.717.7808
SEQUENCE:3
DTSTAMP:20260421T102852Z
URL:https://members.theaachamber.com/events/details/taft-museum-free-family-funday-7808
END:VEVENT

END:VCALENDAR
