BEGIN:VCALENDAR
VERSION:2.0
PRODID:-//ChamberMaster//Event Calendar 2.0//EN
METHOD:PUBLISH
X-PUBLISHED-TTL:P3D
REFRESH-INTERVAL:P3D
CALSCALE:GREGORIAN
BEGIN:VEVENT
DTSTART;VALUE=DATE:20250416
DTEND;VALUE=DATE:20250417
TRANSP:TRANSPARENT
X-MICROSOFT-CDO-ALLDAYEVENT:TRUE
SUMMARY:Taft Museum: Create & Play
DESCRIPTION:Explore the galleries with your young one while learning about art through guided activities and interactive games. Then get creative in the studio and make your own masterpiece to take home. This monthly program is designed for children ages 2 6 and their caregivers.\n\nJanuary 15 | ABC's of the Taft\n\nFebruary 19 | Mystery & Benevolence\n\nMarch 19 | The Art of Watercolor\n\nApril 16 | 1\, 2\, 3\, How Many Do You See?\n\nQuestions? Contact education@taftmuseum.org.
X-ALT-DESC;FMTTYPE=text/html:<p><span style="font-size:26px\;">Explore the galleries with your young one while learning about art through guided activities and interactive games. Then get creative in the studio and make your own masterpiece to take home. This monthly program is designed for children ages 2&ndash\;6 and their caregivers.</span></p>\n\n<p><span style="font-size:26px\;">January 15 |&nbsp\;<a href="https://2812a.blackbaudhosting.com/2812a/Create--Play--ABCs-of-the-Taft" rel="noopener" style="box-sizing: border-box\; color: rgb(25\, 166\, 151)\; text-decoration-line: none\; background-color: transparent\; transition: 0.3s ease-in-out\;" target="_blank" title="GET TICKETS | Create &amp\; Play\, ABC's of the Taft">ABC&#39\;s of the Taft</a></span></p>\n\n<p><span style="font-size:26px\;">February 19 |&nbsp\;<a href="https://2812a.blackbaudhosting.com/2812a/Create--Play--Mystery--Benevolence" rel="noopener" style="box-sizing: border-box\; color: rgb(25\, 166\, 151)\; text-decoration-line: none\; background-color: transparent\; transition: 0.3s ease-in-out\;" target="_blank" title="GET TICKETS | Create &amp\; Play"><em>Mystery &amp\; Benevolence</em></a></span></p>\n\n<p><span style="font-size:26px\;">March 19 |&nbsp\;<a href="https://2812a.blackbaudhosting.com/2812a/Create--Play--The-Art-of-Watercolor" rel="noopener" style="box-sizing: border-box\; color: rgb(25\, 166\, 151)\; text-decoration-line: none\; background-color: transparent\; transition: 0.3s ease-in-out\;" target="_blank" title="GET TICKETS | Create &amp\; Play">The Art of Watercolor</a></span></p>\n\n<p><span style="font-size:26px\;">April 16 |&nbsp\;<a href="https://2812a.blackbaudhosting.com/2812a/Create--Play--1-2-3-How-Many-Do-You-See" rel="noopener" style="box-sizing: border-box\; color: rgb(25\, 166\, 151)\; text-decoration-line: none\; background-color: transparent\; transition: 0.3s ease-in-out\;" target="_blank" title="GET TICKETS | Create &amp\; Play">1\, 2\, 3\, How Many Do You See?</a></span></p>\n\n<p><span style="font-size:26px\;"><strong>Questions?</strong>&nbsp\;Contact&nbsp\;<a href="mailto:education@taftmuseum.org" rel="noopener" style="box-sizing: border-box\; color: rgb(25\, 166\, 151)\; text-decoration-line: none\; background-color: transparent\; transition: 0.3s ease-in-out\;" target="_blank">education@taftmuseum.org</a>.</span></p>\n
LOCATION:Taft Museum of Art 316 Pike Street Cincinnati\, OH 45202
UID:e.717.7806
SEQUENCE:3
DTSTAMP:20260421T131919Z
URL:https://members.theaachamber.com/events/details/taft-museum-create-play-04-16-2025-7806
END:VEVENT

END:VCALENDAR
