BEGIN:VCALENDAR
VERSION:2.0
PRODID:-//ChamberMaster//Event Calendar 2.0//EN
METHOD:PUBLISH
X-PUBLISHED-TTL:P3D
REFRESH-INTERVAL:P3D
CALSCALE:GREGORIAN
BEGIN:VEVENT
DTSTART:20250226T220000Z
DTEND:20250227T010000Z
X-MICROSOFT-CDO-ALLDAYEVENT:FALSE
SUMMARY:NAMI Presents: Beer for Humans at Rhinegeist: Buy a Pint (or More) to Support NAMI Urban Greater Cincinnati
DESCRIPTION:Beer for Humans at Rhinegeist: Buy a Pint (or More) to Support NAMI Urban Greater Cincinnati\n\nThis event is a fantastic opportunity to show your support and make a meaningful impact. Proceeds will benefit NAMI Urban Greater Cincinnati\, an organization dedicated to raising awareness about mental health and providing support for those affected by mental illness. Remember\, the more coins we get\, the more money we will receive\, so let's all come together\, raise a glass\, and make a difference in our community. We hope to see you there!\n\nGrab a Pint in the taproom at Rhinegeist to support NAMI Urban Greater Cincinnati on Wednesday\, February 26\, 2025\, from 5:00 PM to 8:00 PM at 1910 Elm Street Cincinnati\, Ohio 45202.
X-ALT-DESC;FMTTYPE=text/html:<span style="font-size:22px\;">Beer for Humans at Rhinegeist: Buy a Pint (or More) to Support NAMI Urban Greater Cincinnati<br />\n<span style="font-family:calibri\,sans-serif">This event is a fantastic opportunity to show your support and make a meaningful impact. Proceeds will benefit NAMI Urban Greater Cincinnati\, an organization dedicated to raising awareness about mental health and providing support for those affected by mental illness.&nbsp\;</span>Remember\, the more coins we get\, the more money we will receive\, so let&#39\;s all come together\, raise a glass\, and make a difference in our community. We hope to see you there!<br />\nGrab a Pint in the taproom at Rhinegeist to support NAMI Urban Greater Cincinnati on <strong><u>Wednesday\, February 26\, 2025\, from 5:00 PM to 8:00 PM at 1910 Elm Street Cincinnati\, Ohio 45202.</u></strong></span><br />\n&nbsp\;
LOCATION:Rhinegeist 910 Elm Street\, Cincinnati\, Ohio 45202
UID:e.717.7820
SEQUENCE:3
DTSTAMP:20260421T170146Z
URL:https://members.theaachamber.com/events/details/nami-presents-beer-for-humans-at-rhinegeist-buy-a-pint-or-more-to-support-nami-urban-greater-cincinnati-7820
END:VEVENT

END:VCALENDAR
