BEGIN:VCALENDAR
VERSION:2.0
PRODID:-//ChamberMaster//Event Calendar 2.0//EN
METHOD:PUBLISH
X-PUBLISHED-TTL:P3D
REFRESH-INTERVAL:P3D
CALSCALE:GREGORIAN
BEGIN:VEVENT
DTSTART:20250430T160000Z
DTEND:20250430T180000Z
X-MICROSOFT-CDO-ALLDAYEVENT:FALSE
SUMMARY:Metro Small Business Networking Event
DESCRIPTION:Join Cincinnati Metro for a Small Business Networking Event on Wednesday\, April 30th\, and discover how your business can play a role in the future of transit in Cincinnati!\n\n\n\nWe're bringing together businesses\, suppliers\, and community partners such as the Ohio Department of Transportation for an afternoon of connection and opportunity. You'll learn about upcoming MetroRapid projects and how Metro is creating new pathways for small and diverse businesses to get involved. This is your chance to network with other businesses\, learn about upcoming procurement opportunities\, hear how MetroRapid is reshaping transit in our region and find out how your business can be part of this transformative investment!\n\n\n\nThis event is completely free for all participants and lunch will be provided. To register or follow this link: https://www.eventbrite.com/e/connect-collaborate-grow-with-metro-tickets-1311898657199?aff=oddtdtcreator\n\n\n\nIf you are a prime contractor interested in connecting with DBE subcontractors\, please reach out to reserve a booth for networking purposes.
X-ALT-DESC;FMTTYPE=text/html:<span style="font-size:18px\;"><span style="color: rgba(0\, 0\, 0\, 0.9)\; font-family: -apple-system\, system-ui\, blinkmacsystemfont\, &quot\;segoe ui&quot\;\, roboto\, &quot\;helvetica neue&quot\;\, &quot\;fira sans&quot\;\, ubuntu\, oxygen\, &quot\;oxygen sans&quot\;\, cantarell\, &quot\;droid sans&quot\;\, &quot\;apple color emoji&quot\;\, &quot\;segoe ui emoji&quot\;\, &quot\;segoe ui emoji&quot\;\, &quot\;segoe ui symbol&quot\;\, &quot\;lucida grande&quot\;\, helvetica\, arial\, sans-serif\;">Join</span><span style="color: rgba(0\, 0\, 0\, 0.9)\; font-family: -apple-system\, system-ui\, blinkmacsystemfont\, &quot\;segoe ui&quot\;\, roboto\, &quot\;helvetica neue&quot\;\, &quot\;fira sans&quot\;\, ubuntu\, oxygen\, &quot\;oxygen sans&quot\;\, cantarell\, &quot\;droid sans&quot\;\, &quot\;apple color emoji&quot\;\, &quot\;segoe ui emoji&quot\;\, &quot\;segoe ui emoji&quot\;\, &quot\;segoe ui symbol&quot\;\, &quot\;lucida grande&quot\;\, helvetica\, arial\, sans-serif\;"> </span><a class="JfQWFCeQjMXQDVSMwMGKHIHLKZfgSeTo " href="https://www.linkedin.com/company/sorta-metro/" style="box-sizing: inherit\; margin: 0px\; padding: 0px\; font-size: 14px\; vertical-align: baseline\; background-image: none\; background-position: 0% 0%\; background-size: auto\; background-repeat: repeat\; background-attachment: scroll\; background-origin: padding-box\; background-clip: border-box\; text-decoration-line: none\; text-decoration-style: solid\; text-decoration-color: rgb(10\, 102\, 194)\; font-weight: 600\; border-color: rgb(10\, 102\, 194)\; border-style: none\; border-width: 0px\; border-image: none 100% / 1 / 0 stretch\; color: rgb(10\, 102\, 194)\; font-family: -apple-system\, system-ui\, BlinkMacSystemFont\, &quot\;Segoe UI&quot\;\, Roboto\, &quot\;Helvetica Neue&quot\;\, &quot\;Fira Sans&quot\;\, Ubuntu\, Oxygen\, &quot\;Oxygen Sans&quot\;\, Cantarell\, &quot\;Droid Sans&quot\;\, &quot\;Apple Color Emoji&quot\;\, &quot\;Segoe UI Emoji&quot\;\, &quot\;Segoe UI Emoji&quot\;\, &quot\;Segoe UI Symbol&quot\;\, &quot\;Lucida Grande&quot\;\, Helvetica\, Arial\, sans-serif\; touch-action: manipulation\; position: relative\; word-break: normal\; overflow-wrap: normal\; line-height: inherit !important\;" tabindex="0" target="_self">Cincinnati Metro</a><span style="color: rgba(0\, 0\, 0\, 0.9)\; font-family: -apple-system\, system-ui\, blinkmacsystemfont\, &quot\;segoe ui&quot\;\, roboto\, &quot\;helvetica neue&quot\;\, &quot\;fira sans&quot\;\, ubuntu\, oxygen\, &quot\;oxygen sans&quot\;\, cantarell\, &quot\;droid sans&quot\;\, &quot\;apple color emoji&quot\;\, &quot\;segoe ui emoji&quot\;\, &quot\;segoe ui emoji&quot\;\, &quot\;segoe ui symbol&quot\;\, &quot\;lucida grande&quot\;\, helvetica\, arial\, sans-serif\;"> </span><span style="color: rgba(0\, 0\, 0\, 0.9)\; font-family: -apple-system\, system-ui\, blinkmacsystemfont\, &quot\;segoe ui&quot\;\, roboto\, &quot\;helvetica neue&quot\;\, &quot\;fira sans&quot\;\, ubuntu\, oxygen\, &quot\;oxygen sans&quot\;\, cantarell\, &quot\;droid sans&quot\;\, &quot\;apple color emoji&quot\;\, &quot\;segoe ui emoji&quot\;\, &quot\;segoe ui emoji&quot\;\, &quot\;segoe ui symbol&quot\;\, &quot\;lucida grande&quot\;\, helvetica\, arial\, sans-serif\;">for a Small Business Networking Event on Wednesday\, April 30th\, and discover how your business can play a role in the future of transit in Cincinnati!</span><br />\n<br />\n<span style="color: rgba(0\, 0\, 0\, 0.9)\; font-family: -apple-system\, system-ui\, blinkmacsystemfont\, &quot\;segoe ui&quot\;\, roboto\, &quot\;helvetica neue&quot\;\, &quot\;fira sans&quot\;\, ubuntu\, oxygen\, &quot\;oxygen sans&quot\;\, cantarell\, &quot\;droid sans&quot\;\, &quot\;apple color emoji&quot\;\, &quot\;segoe ui emoji&quot\;\, &quot\;segoe ui emoji&quot\;\, &quot\;segoe ui symbol&quot\;\, &quot\;lucida grande&quot\;\, helvetica\, arial\, sans-serif\;">We&#39\;re bringing together businesses\, suppliers\, and community partners such as the</span><span style="color: rgba(0\, 0\, 0\, 0.9)\; font-family: -apple-system\, system-ui\, blinkmacsystemfont\, &quot\;segoe ui&quot\;\, roboto\, &quot\;helvetica neue&quot\;\, &quot\;fira sans&quot\;\, ubuntu\, oxygen\, &quot\;oxygen sans&quot\;\, cantarell\, &quot\;droid sans&quot\;\, &quot\;apple color emoji&quot\;\, &quot\;segoe ui emoji&quot\;\, &quot\;segoe ui emoji&quot\;\, &quot\;segoe ui symbol&quot\;\, &quot\;lucida grande&quot\;\, helvetica\, arial\, sans-serif\;"> </span><a class="JfQWFCeQjMXQDVSMwMGKHIHLKZfgSeTo " href="https://www.linkedin.com/company/ohio-department-of-transportation/" style="box-sizing: inherit\; margin: 0px\; padding: 0px\; font-size: 14px\; vertical-align: baseline\; background-image: none\; background-position: 0% 0%\; background-size: auto\; background-repeat: repeat\; background-attachment: scroll\; background-origin: padding-box\; background-clip: border-box\; text-decoration-line: none\; text-decoration-style: solid\; text-decoration-color: rgb(10\, 102\, 194)\; font-weight: 600\; border-color: rgb(10\, 102\, 194)\; border-style: none\; border-width: 0px\; border-image: none 100% / 1 / 0 stretch\; color: rgb(10\, 102\, 194)\; font-family: -apple-system\, system-ui\, BlinkMacSystemFont\, &quot\;Segoe UI&quot\;\, Roboto\, &quot\;Helvetica Neue&quot\;\, &quot\;Fira Sans&quot\;\, Ubuntu\, Oxygen\, &quot\;Oxygen Sans&quot\;\, Cantarell\, &quot\;Droid Sans&quot\;\, &quot\;Apple Color Emoji&quot\;\, &quot\;Segoe UI Emoji&quot\;\, &quot\;Segoe UI Emoji&quot\;\, &quot\;Segoe UI Symbol&quot\;\, &quot\;Lucida Grande&quot\;\, Helvetica\, Arial\, sans-serif\; touch-action: manipulation\; position: relative\; word-break: normal\; overflow-wrap: normal\; line-height: inherit !important\;" tabindex="0" target="_self">Ohio Department of Transportation</a><span style="color: rgba(0\, 0\, 0\, 0.9)\; font-family: -apple-system\, system-ui\, blinkmacsystemfont\, &quot\;segoe ui&quot\;\, roboto\, &quot\;helvetica neue&quot\;\, &quot\;fira sans&quot\;\, ubuntu\, oxygen\, &quot\;oxygen sans&quot\;\, cantarell\, &quot\;droid sans&quot\;\, &quot\;apple color emoji&quot\;\, &quot\;segoe ui emoji&quot\;\, &quot\;segoe ui emoji&quot\;\, &quot\;segoe ui symbol&quot\;\, &quot\;lucida grande&quot\;\, helvetica\, arial\, sans-serif\;"> </span><span style="color: rgba(0\, 0\, 0\, 0.9)\; font-family: -apple-system\, system-ui\, blinkmacsystemfont\, &quot\;segoe ui&quot\;\, roboto\, &quot\;helvetica neue&quot\;\, &quot\;fira sans&quot\;\, ubuntu\, oxygen\, &quot\;oxygen sans&quot\;\, cantarell\, &quot\;droid sans&quot\;\, &quot\;apple color emoji&quot\;\, &quot\;segoe ui emoji&quot\;\, &quot\;segoe ui emoji&quot\;\, &quot\;segoe ui symbol&quot\;\, &quot\;lucida grande&quot\;\, helvetica\, arial\, sans-serif\;">for an afternoon of connection and opportunity. You&#39\;ll learn about upcoming MetroRapid projects and how Metro is creating new pathways for small and diverse businesses to get involved. This is your chance to network with other businesses\, learn about upcoming procurement opportunities\, hear how MetroRapid is reshaping transit in our region and find out how your business can be part of this transformative investment!</span><br />\n<br />\n<span style="color: rgba(0\, 0\, 0\, 0.9)\; font-family: -apple-system\, system-ui\, blinkmacsystemfont\, &quot\;segoe ui&quot\;\, roboto\, &quot\;helvetica neue&quot\;\, &quot\;fira sans&quot\;\, ubuntu\, oxygen\, &quot\;oxygen sans&quot\;\, cantarell\, &quot\;droid sans&quot\;\, &quot\;apple color emoji&quot\;\, &quot\;segoe ui emoji&quot\;\, &quot\;segoe ui emoji&quot\;\, &quot\;segoe ui symbol&quot\;\, &quot\;lucida grande&quot\;\, helvetica\, arial\, sans-serif\;">This event is completely free for all participants and lunch will be provided. To register or follow this link:</span><span style="color: rgba(0\, 0\, 0\, 0.9)\; font-family: -apple-system\, system-ui\, blinkmacsystemfont\, &quot\;segoe ui&quot\;\, roboto\, &quot\;helvetica neue&quot\;\, &quot\;fira sans&quot\;\, ubuntu\, oxygen\, &quot\;oxygen sans&quot\;\, cantarell\, &quot\;droid sans&quot\;\, &quot\;apple color emoji&quot\;\, &quot\;segoe ui emoji&quot\;\, &quot\;segoe ui emoji&quot\;\, &quot\;segoe ui symbol&quot\;\, &quot\;lucida grande&quot\;\, helvetica\, arial\, sans-serif\;"> </span>https://www.eventbrite.com/e/connect-collaborate-grow-with-metro-tickets-1311898657199?aff=oddtdtcreator<br />\n<br />\n<span style="color: rgba(0\, 0\, 0\, 0.9)\; font-family: -apple-system\, system-ui\, blinkmacsystemfont\, &quot\;segoe ui&quot\;\, roboto\, &quot\;helvetica neue&quot\;\, &quot\;fira sans&quot\;\, ubuntu\, oxygen\, &quot\;oxygen sans&quot\;\, cantarell\, &quot\;droid sans&quot\;\, &quot\;apple color emoji&quot\;\, &quot\;segoe ui emoji&quot\;\, &quot\;segoe ui emoji&quot\;\, &quot\;segoe ui symbol&quot\;\, &quot\;lucida grande&quot\;\, helvetica\, arial\, sans-serif\;">If you are a prime contractor interested in connecting with DBE subcontractors\, please reach out to reserve a booth for networking purposes.</span></span>
LOCATION:American Red Cross Building 2111 Dana Ave\, Cincinnati\, OH
UID:e.717.7894
SEQUENCE:3
DTSTAMP:20260421T120857Z
URL:https://members.theaachamber.com/events/details/metro-small-business-networking-event-7894
END:VEVENT

END:VCALENDAR
