BEGIN:VCALENDAR
VERSION:2.0
PRODID:-//ChamberMaster//Event Calendar 2.0//EN
METHOD:PUBLISH
X-PUBLISHED-TTL:P3D
REFRESH-INTERVAL:P3D
CALSCALE:GREGORIAN
BEGIN:VEVENT
DTSTART:20251121T210000Z
DTEND:20251121T220000Z
X-MICROSOFT-CDO-ALLDAYEVENT:FALSE
SUMMARY:MBAC Presents: BHAM Construction\, Construction Bid Info Session
DESCRIPTION:You're invited to an important Information Session for an upcoming construction bid opportunity with BHAM Construction\, LLC\, the in-house construction division of Birge & Held.\n\nBHAM Construction is preparing to build a two-building\, four-story apartment project right here in Cincinnati\, Ohio\, and they are looking for qualified small businesses to participate in the bidding process.\n\nInformation Session Details\n\n  November 20 & 21\n\n  4:00 PM\n\n  African American Chamber of Commerce (AACC)\n\nDuring this session\, small business owners will:\n\n\n	\n	Learn project scope & bid requirements\n	\n	\n	Meet the BHAM Construction team\n	\n	\n	Ask questions about the subcontracting needs\n	\n	\n	Understand the timeline and next steps\n	\n\n\nBHAM Construction\, LLC is part of Birge & Held\, a national leader with 20\,000+ units and $1B+ in assets under management. Learn more at their website: birgeandheldconstruction.com\n\nWe encourage all construction-related businesses\, trades\, suppliers\, and subcontractors to attend.\n\nReserve your spot today   opportunities like this don't come often!
X-ALT-DESC;FMTTYPE=text/html:<p data-end="570" data-start="382">You&rsquo\;re invited to an important <strong data-end="436" data-start="413">Information Session</strong> for an upcoming construction bid opportunity with <strong data-end="513" data-start="487">BHAM Construction\, LLC</strong>\, the in-house construction division of <strong data-end="569" data-start="553">Birge &amp\; Held</strong>.</p>\n\n<p data-end="787" data-start="572">BHAM Construction is preparing to build a <strong data-end="660" data-start="614">two-building\, four-story apartment project</strong> right here in <strong data-end="695" data-start="675">Cincinnati\, Ohio</strong>\, and they are looking for qualified small businesses to participate in the bidding process.</p>\n\n<p data-end="915" data-start="789"><strong data-end="820" data-start="789">Information Session Details</strong><br data-end="823" data-start="820" />\n&#128197\; <strong data-end="846" data-start="826">November 20 &amp\; 21</strong><br data-end="849" data-start="846" />\n&#9200\; <strong data-end="862" data-start="851">4:00 PM</strong><br data-end="865" data-start="862" />\n&#128205\; <strong data-end="915" data-start="868">African American Chamber of Commerce (AACC)</strong></p>\n\n<p data-end="967" data-start="917">During this session\, small business owners will:</p>\n\n<ul data-end="1136" data-start="968">\n	<li data-end="1010" data-start="968">\n	<p data-end="1010" data-start="970">Learn project scope &amp\; bid requirements</p>\n	</li>\n	<li data-end="1046" data-start="1011">\n	<p data-end="1046" data-start="1013">Meet the BHAM Construction team</p>\n	</li>\n	<li data-end="1095" data-start="1047">\n	<p data-end="1095" data-start="1049">Ask questions about the subcontracting needs</p>\n	</li>\n	<li data-end="1136" data-start="1096">\n	<p data-end="1136" data-start="1098">Understand the timeline and next steps</p>\n	</li>\n</ul>\n\n<p data-end="1329" data-start="1138">BHAM Construction\, LLC is part of <strong data-end="1188" data-start="1172">Birge &amp\; Held</strong>\, a national leader with <strong data-end="1230" data-start="1213">20\,000+ units</strong> and <strong data-end="1253" data-start="1235">$1B+ in assets</strong> under management. Learn more at their website: birgeandheldconstruction.com</p>\n\n<p data-end="1429" data-start="1331">We encourage all construction-related businesses\, trades\, suppliers\, and subcontractors to attend.</p>\n\n<p data-end="1502" data-start="1431"><strong data-end="1502" data-start="1431">Reserve your spot today &mdash\; opportunities like this don&rsquo\;t come often!</strong></p>\n
LOCATION:African American Chamber of Commerce (AACC)
UID:e.717.8083
SEQUENCE:3
DTSTAMP:20260421T221347Z
URL:https://members.theaachamber.com/events/details/mbac-presents-bham-construction-construction-bid-info-session-8083
END:VEVENT

END:VCALENDAR
