BEGIN:VCALENDAR
VERSION:2.0
PRODID:-//ChamberMaster//Event Calendar 2.0//EN
METHOD:PUBLISH
X-PUBLISHED-TTL:P3D
REFRESH-INTERVAL:P3D
CALSCALE:GREGORIAN
BEGIN:VEVENT
DTSTART:20250404T140000Z
DTEND:20250404T160000Z
X-MICROSOFT-CDO-ALLDAYEVENT:FALSE
SUMMARY:MBAC Presents: Access to Capital Event With Huntington Bank
DESCRIPTION:Unlock Your Business Potential!\n\nAccess to Capital Event\n\nJoin us for an informative session featuring Huntington Bank's Lift Local Business Program and the Department of Development's Loan Products and Services.\n\nDate: April 4th\n\nTime:10 am -12 pm\n\nLocation:\n\nCollege of Food\, Agriculture and Environmental Sciences\n\nOhio State University Extension Fayette County\n\n1415 US 22 SW\, Suite 100\n\nWashington Court House\, OH 43160\n\nWhy Attend?\n\n\n	Discover funding opportunities tailored for small businesses\n	Learn about resources to help your business grow\n	Network with industry experts and fellow entrepreneurs\n\n\nDon't miss this chance to take your business to the next level!
X-ALT-DESC;FMTTYPE=text/html:<p data-end="87" data-start="52"><strong data-end="87" data-start="52">Unlock Your Business Potential!</strong></p>\n\n<p data-end="281" data-start="89"><strong data-end="116" data-start="89">Access to Capital Event</strong><br data-end="119" data-start="116" />\nJoin us for an informative session featuring Huntington Bank&#39\;s <strong data-end="213" data-start="182">Lift Local Business Program</strong> and the <strong data-end="280" data-start="222">Department of Development&#39\;s Loan Products and Services</strong>.</p>\n\n<p data-end="515" data-start="283"><strong data-end="292" data-start="283">Date:</strong> April 4th<br data-end="305" data-start="302" />\n<strong data-end="314" data-start="305">Time:</strong>10 am -12 pm<br data-end="331" data-start="328" />\n<strong data-end="344" data-start="331">Location:</strong><br data-end="347" data-start="344" />\nCollege of Food\, Agriculture and Environmental Sciences<br data-end="405" data-start="402" />\nOhio State University Extension Fayette County<br data-end="454" data-start="451" />\n1415 US 22 SW\, Suite 100<br data-end="481" data-is-only-node="" data-start="478" />\nWashington Court House\, OH 43160</p>\n\n<p data-end="534" data-start="517"><strong data-end="532" data-start="517">Why Attend?</strong></p>\n\n<ul data-end="711" data-start="535">\n	<li data-end="599" data-start="535">Discover funding opportunities tailored for small businesses</li>\n	<li data-end="652" data-start="600">Learn about resources to help your business grow</li>\n	<li data-end="711" data-start="653">Network with industry experts and fellow entrepreneurs</li>\n</ul>\n\n<p data-end="835" data-start="713"><strong data-end="780" data-start="713">Don&rsquo\;t miss this chance to take your business to the next level!</strong></p>\n
LOCATION:College of Food\, Agriculture and Environmental Sciences Ohio State University Extension Fayette County 1415 US 22 SW Washington Court House\, OH 43160
UID:e.717.7873
SEQUENCE:3
DTSTAMP:20260421T115954Z
URL:https://members.theaachamber.com/events/details/mbac-presents-access-to-capital-event-with-huntington-bank-7873
END:VEVENT

END:VCALENDAR
