BEGIN:VCALENDAR
VERSION:2.0
PRODID:-//ChamberMaster//Event Calendar 2.0//EN
METHOD:PUBLISH
X-PUBLISHED-TTL:P3D
REFRESH-INTERVAL:P3D
CALSCALE:GREGORIAN
BEGIN:VEVENT
DTSTART:20251104T160000Z
DTEND:20251104T180000Z
X-MICROSOFT-CDO-ALLDAYEVENT:FALSE
SUMMARY:MBAC & Pivot Presents: Empower Your Business This Tax Season
DESCRIPTION:Empower Your Business This Tax Season\n\n  Date: Tuesday\, November 4\, 2025\n\n  Time: 11:00 AM ? 1:00 PM\n\n  Location: Attend In Person or Virtually via Zoom\n\n\n  Take the Stress Out of Tax Season\n\nTax season doesn?t have to feel overwhelming. This workshop\, led by Diamond Boynton\, owner of Boynton Tax Service\, is designed to help small business owners get organized\, stay compliant\, and maximize savings.\n\n\n  What You?ll Learn\n\n\n	\n	A step-by-step tax prep checklist you can use year after year\n	\n	\n	How to maximize deductions and keep more money in your business\n	\n	\n	The most common mistakes small business owners make (and how to avoid them)\n	\n	\n	Tools to stay financially ready beyond tax season\n	\n\n\n\n  About the Speaker\n\nDiamond Boynton is the founder of Boynton Tax Service (est. 2019)\, serving the Cincinnati community with:\n\n\n	\n	Tax Preparation\n	\n	\n	Payroll\n	\n	\n	Bookkeeping\n	\n	\n	Business Structuring\n	\n	\n	Notary Services\n	\n\n\nFollow her for tips + updates   @boyntontaxservice\n\n\n  Event Details\n\n  Date: Tuesday\, November 4\, 2025\n\n  Time: 11:00 AM ? 1:00 PM\n\n  Location: In Person + Zoom (link sent after registration)\n\n\n  Reserve Your Spot\n\nSeats are limited ? secure yours today!\n\n  Register Here\n\n \n\nVIRTUAL LINK: \n\n\n	\n		\n			\n			Virtual Link for Empower your business\n\n			You've been invited to:\n			 \n\n			 \n\n			Virtual Link for Empower your business\n\n			 \n\n			Tue\, Nov 4\, 2025 11:00 AM - 1:00 PM (UTC-05:00) Eastern Time (US & Canada)\n			 \n\n			We look forward to having you attend the event!\n			\n		\n		\n			\n			 \n			\n			________________________________________________________________________________\n\n			Microsoft Teams Need help?\n\n			Join the meeting now\n\n			Meeting ID: 228 937 877 301 3\n\n			Passcode: Ly7sm9aG\n\n			\n			\n\n			For organizers: Meeting options
X-ALT-DESC;FMTTYPE=text/html:<h1 data-end="125" data-start="80"><strong data-end="123" data-start="82">Empower Your Business This Tax Season</strong></h1>\n\n<p data-end="258" data-start="126">&#128197\; <strong data-end="138" data-start="129">Date:</strong> Tuesday\, November 4\, 2025<br data-end="167" data-start="164" />\n&#128346\; <strong data-end="179" data-start="170">Time:</strong> 11:00 AM ? 1:00 PM<br data-end="201" data-start="198" />\n&#128205\; <strong data-end="217" data-start="204">Location:</strong> Attend In Person or Virtually via Zoom</p>\n\n<hr data-end="263" data-start="260" />\n<h3 data-end="307" data-start="265">&#127942\; Take the Stress Out of Tax Season</h3>\n\n<p data-end="581" data-start="308">Tax season doesn?t have to feel overwhelming. This workshop\, led by <strong data-end="395" data-start="376">Diamond Boynton</strong>\, owner of <a class="decorated-link" data-end="479" data-start="406" href="https://www.instagram.com/boyntontaxservice/?hl=en" rel="noopener" target="_new">Boynton Tax Service<span aria-hidden="true" class="ms-0.5 inline-block align-middle leading-none"><svg class="block h-[0.75em] w-[0.75em] stroke-current stroke-[0.75]" data-rtl-flip="" fill="currentColor" height="20" viewbox="0 0 20 20" width="20" xmlns="http://www.w3.org/2000/svg"><path d="M14.3349 13.3301V6.60645L5.47065 15.4707C5.21095 15.7304 4.78895 15.7304 4.52925 15.4707C4.26955 15.211 4.26955 14.789 4.52925 14.5293L13.3935 5.66504H6.66011C6.29284 5.66504 5.99507 5.36727 5.99507 5C5.99507 4.63273 6.29284 4.33496 6.66011 4.33496H14.9999L15.1337 4.34863C15.4369 4.41057 15.665 4.67857 15.665 5V13.3301C15.6649 13.6973 15.3672 13.9951 14.9999 13.9951C14.6327 13.9951 14.335 13.6973 14.3349 13.3301Z"></path></svg></span></a>\, is designed to help <strong data-end="526" data-start="501">small business owners</strong> get organized\, stay compliant\, and maximize savings.</p>\n\n<hr data-end="586" data-start="583" />\n<h3 data-end="613" data-start="588">&#9989\; What You?ll Learn</h3>\n\n<ul data-end="897" data-start="614">\n	<li data-end="683" data-start="614">\n	<p data-end="683" data-start="616">A <strong data-end="653" data-start="618">step-by-step tax prep checklist</strong> you can use year after year</p>\n	</li>\n	<li data-end="755" data-start="684">\n	<p data-end="755" data-start="686">How to <strong data-end="716" data-start="693">maximize deductions</strong> and keep more money in your business</p>\n	</li>\n	<li data-end="839" data-start="756">\n	<p data-end="839" data-start="758">The <strong data-end="786" data-start="762">most common mistakes</strong> small business owners make (and how to avoid them)</p>\n	</li>\n	<li data-end="897" data-start="840">\n	<p data-end="897" data-start="842">Tools to <strong data-end="877" data-start="851">stay financially ready</strong> beyond tax season</p>\n	</li>\n</ul>\n\n<hr data-end="902" data-start="899" />\n<h3 data-end="930" data-start="904">&#127908\; About the Speaker</h3>\n\n<p data-end="1046" data-start="931"><strong data-end="950" data-start="931">Diamond Boynton</strong> is the founder of <strong data-end="992" data-start="969">Boynton Tax Service</strong> (est. 2019)\, serving the Cincinnati community with:</p>\n\n<ul data-end="1139" data-start="1047">\n	<li data-end="1066" data-start="1047">\n	<p data-end="1066" data-start="1049">Tax Preparation</p>\n	</li>\n	<li data-end="1078" data-start="1067">\n	<p data-end="1078" data-start="1069">Payroll</p>\n	</li>\n	<li data-end="1094" data-start="1079">\n	<p data-end="1094" data-start="1081">Bookkeeping</p>\n	</li>\n	<li data-end="1119" data-start="1095">\n	<p data-end="1119" data-start="1097">Business Structuring</p>\n	</li>\n	<li data-end="1139" data-start="1120">\n	<p data-end="1139" data-start="1122">Notary Services</p>\n	</li>\n</ul>\n\n<p data-end="1248" data-start="1141">Follow her for tips + updates &#128073\; <a class="decorated-link" data-end="1246" data-start="1174" href="https://www.instagram.com/boyntontaxservice/?hl=en" rel="noopener" target="_new">@boyntontaxservice<span aria-hidden="true" class="ms-0.5 inline-block align-middle leading-none"><svg class="block h-[0.75em] w-[0.75em] stroke-current stroke-[0.75]" data-rtl-flip="" fill="currentColor" height="20" viewbox="0 0 20 20" width="20" xmlns="http://www.w3.org/2000/svg"><path d="M14.3349 13.3301V6.60645L5.47065 15.4707C5.21095 15.7304 4.78895 15.7304 4.52925 15.4707C4.26955 15.211 4.26955 14.789 4.52925 14.5293L13.3935 5.66504H6.66011C6.29284 5.66504 5.99507 5.36727 5.99507 5C5.99507 4.63273 6.29284 4.33496 6.66011 4.33496H14.9999L15.1337 4.34863C15.4369 4.41057 15.665 4.67857 15.665 5V13.3301C15.6649 13.6973 15.3672 13.9951 14.9999 13.9951C14.6327 13.9951 14.335 13.6973 14.3349 13.3301Z"></path></svg></span></a></p>\n\n<hr data-end="1253" data-start="1250" />\n<h3 data-end="1277" data-start="1255">&#128204\; Event Details</h3>\n\n<p data-end="1419" data-start="1278">&#128197\; <strong data-end="1290" data-start="1281">Date:</strong> Tuesday\, November 4\, 2025<br data-end="1319" data-start="1316" />\n&#128346\; <strong data-end="1331" data-start="1322">Time:</strong> 11:00 AM ? 1:00 PM<br data-end="1353" data-start="1350" />\n&#128205\; <strong data-end="1369" data-start="1356">Location:</strong> In Person + Zoom (link sent after registration)</p>\n\n<hr data-end="1424" data-start="1421" />\n<h3 data-end="1452" data-start="1426">&#128279\; Reserve Your Spot</h3>\n\n<p data-end="1542" data-start="1453">Seats are limited ? secure yours today!<br data-end="1495" data-start="1492" />\n&#128073\; <a class="decorated-link" data-end="1540" data-start="1498" href="http://bit.ly/4lL5MSY" rel="noopener" target="_new"><strong data-end="1516" data-start="1499">Register Here</strong></a></p>\n\n<p data-end="1542" data-start="1453">&nbsp\;</p>\n\n<p data-end="1542" data-start="1453"><strong data-end="1516" data-start="1499">VIRTUAL LINK:&nbsp\;</strong></p>\n\n<table border="0" cellpadding="10" cellspacing="0" class="x_responsiveTableContainer" style="-webkit-font-smoothing: antialiased\; color: rgb(255\, 255\, 255)\; font-family: -apple-system\, BlinkMacSystemFont\, &quot\;Segoe UI&quot\;\, system-ui\, &quot\;Apple Color Emoji&quot\;\, &quot\;Segoe UI Emoji&quot\;\, sans-serif\; font-size: 14px\; background-color: rgb(31\, 31\, 31)\; max-width: 600px\;">\n	<tbody style="box-sizing: border-box\; -webkit-font-smoothing: antialiased\;">\n		<tr style="box-sizing: border-box\; -webkit-font-smoothing: antialiased\;">\n			<td style="box-sizing: border-box\; -webkit-font-smoothing: antialiased\;">\n			<h2 style="box-sizing: border-box\; -webkit-font-smoothing: antialiased\;">Virtual Link for Empower your business</h2>\n\n			<p style="box-sizing: border-box\; -webkit-font-smoothing: antialiased\; margin: 0px\;">You&rsquo\;ve been invited to:</p>\n			&nbsp\;\n\n			<p style="box-sizing: border-box\; -webkit-font-smoothing: antialiased\; margin: 0px\;">&nbsp\;</p>\n\n			<div style="box-sizing: border-box\; -webkit-font-smoothing: antialiased\;">Virtual Link for Empower your business</div>\n\n			<div style="box-sizing: border-box\; -webkit-font-smoothing: antialiased\;">&nbsp\;</div>\n\n			<div style="box-sizing: border-box\; -webkit-font-smoothing: antialiased\;">Tue\, Nov 4\, 2025 11:00 AM - 1:00 PM (UTC-05:00) Eastern Time (US &amp\; Canada)</div>\n			&nbsp\;\n\n			<p style="box-sizing: border-box\; -webkit-font-smoothing: antialiased\; margin: 0px\;">We look forward to having you attend the event!</p>\n			</td>\n		</tr>\n		<tr style="box-sizing: border-box\; -webkit-font-smoothing: antialiased\;">\n			<td style="box-sizing: border-box\; -webkit-font-smoothing: antialiased\;">\n			<div style="box-sizing: border-box\; -webkit-font-smoothing: antialiased\;">&nbsp\;\n			<div class="me-email-text" lang="en-US" style="box-sizing: border-box\; -webkit-font-smoothing: antialiased\; color: rgb(36\, 36\, 36)\; max-width: 720px\; font-family: &quot\;segoe ui&quot\;\, &quot\;helvetica neue&quot\;\, helvetica\, arial\, sans-serif\;">\n			<div style="box-sizing: border-box\; -webkit-font-smoothing: antialiased\; margin-bottom: 24px\; overflow: hidden\; text-wrap-mode: nowrap\; color: rgb(255\, 255\, 255) !important\;">________________________________________________________________________________</div>\n\n			<div style="box-sizing: border-box\; -webkit-font-smoothing: antialiased\; color: rgb(255\, 255\, 255) !important\; margin-bottom: 12px\;"><span class="me-email-text" style="box-sizing: border-box\; -webkit-font-smoothing: antialiased\; font-size: 24px\; font-weight: 700\; margin-right: 12px\;">Microsoft Teams</span><a class="me-email-link" href="https://aka.ms/JoinTeamsMeeting?omkt=en-US" id="meet_invite_block.action.help" rel="noreferrer noopener" style="box-sizing: border-box\; -webkit-font-smoothing: antialiased\; background-color: transparent\; color: rgb(91\, 95\, 199)\; margin-right: 0.5rem\;" target="_blank" title="https://aka.ms/jointeamsmeeting?omkt=en-us">&nbsp\;Need&nbsp\;help?</a></div>\n\n			<div style="box-sizing: border-box\; -webkit-font-smoothing: antialiased\; color: rgb(255\, 255\, 255) !important\; margin-bottom: 6px\;"><a class="me-email-headline" href="https://teams.microsoft.com/l/meetup-join/19%3ameeting_YjgyOTA3YWQtZTkzMS00NjQxLThhMTYtMjU0ZGYxZDIxMmRl%40thread.v2/0?context=%7b%22Tid%22%3a%227441b470-139d-439f-9d6a-89fc703753b2%22%2c%22Oid%22%3a%22ca2deb5f-8e94-4ad3-a964-72fd453c1f0c%22%7d" id="meet_invite_block.action.join_link" rel="noreferrer noopener" style="box-sizing: border-box\; -webkit-font-smoothing: antialiased\; background-color: transparent\; color: rgb(91\, 95\, 199)\; font-size: 20px\; font-weight: 600\;" target="_blank" title="https://teams.microsoft.com/l/meetup-join/19%3ameeting_yjgyota3ywqtztkzms00njqxlthhmtytmju0zgyxzdixmmrl%40thread.v2/0?context=%7b%22tid%22%3a%227441b470-139d-439f-9d6a-89fc703753b2%22%2c%22oid%22%3a%22ca2deb5f-8e94-4ad3-a964-72fd453c1f0c%22%7d">Join&nbsp\;the&nbsp\;meeting&nbsp\;now</a></div>\n\n			<div style="box-sizing: border-box\; -webkit-font-smoothing: antialiased\; color: rgb(255\, 255\, 255) !important\; margin-bottom: 6px\;"><span class="me-email-text-secondary" style="box-sizing: border-box\; -webkit-font-smoothing: antialiased\; color: rgb(97\, 97\, 97)\;">Meeting ID:&nbsp\;</span><span class="me-email-text" style="box-sizing: border-box\; -webkit-font-smoothing: antialiased\; color: rgb(36\, 36\, 36)\;">228 937 877 301 3</span></div>\n\n			<div style="box-sizing: border-box\; -webkit-font-smoothing: antialiased\; color: rgb(255\, 255\, 255) !important\; margin-bottom: 32px\;"><span class="me-email-text-secondary" style="box-sizing: border-box\; -webkit-font-smoothing: antialiased\; color: rgb(97\, 97\, 97)\;">Passcode:&nbsp\;</span><span class="me-email-text" style="box-sizing: border-box\; -webkit-font-smoothing: antialiased\; color: rgb(36\, 36\, 36)\;">Ly7sm9aG</span></div>\n\n			<div style="box-sizing: border-box\; -webkit-font-smoothing: antialiased\; color: rgb(255\, 255\, 255) !important\; margin-bottom: 12px\; max-width: 720px\;">\n			<hr style="box-sizing: content-box\; -webkit-font-smoothing: antialiased\; height: 1px\; overflow: visible\; border-top: 0px\; background: rgb(97\, 97\, 97)\;" /></div>\n\n			<div style="box-sizing: border-box\; -webkit-font-smoothing: antialiased\; color: rgb(255\, 255\, 255) !important\;"><span class="me-email-text-secondary" style="box-sizing: border-box\; -webkit-font-smoothing: antialiased\; color: rgb(97\, 97\, 97)\;">For organizers:&nbsp\;</span><a class="me-email-link" href="https://teams.microsoft.com/meetingOptions/?organizerId=ca2deb5f-8e94-4ad3-a964-72fd453c1f0c&amp\;tenantId=7441b470-139d-439f-9d6a-89fc703753b2&amp\;threadId=19_meeting_YjgyOTA3YWQtZTkzMS00NjQxLThhMTYtMjU0ZGYxZDIxMmRl@thread.v2&amp\;messageId=0&amp\;language=en-US" id="meet_invite_block.action.organizer_meet_options" rel="noreferrer noopener" style="box-sizing: border-box\; -webkit-font-smoothing: antialiased\; background-color: transparent\; color: rgb(91\, 95\, 199)\; margin-right: 0.5rem\;" target="_blank" title="https://teams.microsoft.com/meetingoptions/?organizerid=ca2deb5f-8e94-4ad3-a964-72fd453c1f0c&amp\;tenantid=7441b470-139d-439f-9d6a-89fc703753b2&amp\;threadid=19_meeting_yjgyota3ywqtztkzms00njqxlthhmtytmju0zgyxzdixmmrl@thread.v2&amp\;messageid=0&amp\;language=en-us">Meeting&nbsp\;options</a></div>\n			</div>\n			</div>\n			</td>\n		</tr>\n	</tbody>\n</table>\n
LOCATION:AACC 2303 Gilbert Ave
UID:e.717.8068
SEQUENCE:3
DTSTAMP:20260421T233936Z
URL:https://members.theaachamber.com/events/details/mbac-pivot-presents-empower-your-business-this-tax-season-8068
END:VEVENT

END:VCALENDAR
