BEGIN:VCALENDAR
VERSION:2.0
PRODID:-//ChamberMaster//Event Calendar 2.0//EN
METHOD:PUBLISH
X-PUBLISHED-TTL:P3D
REFRESH-INTERVAL:P3D
CALSCALE:GREGORIAN
BEGIN:VEVENT
DTSTART:20250423T130000Z
DTEND:20250423T140000Z
X-MICROSOFT-CDO-ALLDAYEVENT:FALSE
SUMMARY:Coffee & Conversation
DESCRIPTION:Good Coffee. Great People. Real Conversations\n\n\n\nTake a break from your inbox and join us for Coffee & Conversation a casual\, feel-good networking hour where connections are brewed just as strong as the coffee.\n\nWhether you're looking to grow your network\, explore new collaborations\, or just start your morning with some good vibes and even better coffee\, Coffee & Conversation is the perfect space to do it. No formal agenda just real talk with real people who are doing amazing things across our region. You'll leave with fresh connections\, new ideas\, and maybe even a few future collaborators.\n\n  ALL ARE WELCOME   Bring a friend or colleague!\n\nComplimentary food provided   limited availability!!\n\nWe can't wait to share a cup (or two!) with you.\n\nThe African American Chamber of Commerce
X-ALT-DESC;FMTTYPE=text/html:<p class="mcePastedContent" data-pm-slice="1 1 []"><span style="color:#800000\;"><strong><span style="font-size:18px\;">Good Coffee. Great People. Real Conversations</span></strong></span><br />\n<br />\n<span style="font-size:14px\;"><span style="color:#8B4513\;">Take a break from your inbox and join us for <strong>Coffee &amp\; Conversation</strong> a casual\, feel-good networking hour where connections are brewed just as strong as the coffee.</span></span></p>\n\n<p class="mcePastedContent"><span style="font-size:14px\;">Whether you&#39\;re looking to grow your network\, explore new collaborations\, or just start your morning with some good vibes and even better coffee\, <strong>Coffee &amp\; Conversation</strong> is the perfect space to do it. No formal agenda just real talk with real people who are doing amazing things across our region. You&rsquo\;ll leave with fresh connections\, new ideas\, and maybe even a few future collaborators.</span></p>\n\n<p class="mcePastedContent"><span style="font-size:16px\;"><strong>&#10024\; ALL ARE WELCOME &ndash\; Bring a friend or colleague!</strong></span><br />\n<strong><span style="color:#800080\;">Complimentary</span> <span style="color:#800080\;">food provided </span>&mdash\; <span style="color:#800080\;">limited availability!!</span></strong></p>\n\n<p class="mcePastedContent"><span style="color:#006400\;">We can&rsquo\;t wait to share a cup (or two!) with you.<br />\n<strong>The African American Chamber of Commerce</strong></span></p>\n
LOCATION:Location: Kinley Hotel 636 Race St\, Cincinnati\, OH 45206 Complimentary food provided limited availability
UID:e.717.7891
SEQUENCE:3
DTSTAMP:20260421T131607Z
URL:https://members.theaachamber.com/events/details/coffee-conversation-7891
END:VEVENT

END:VCALENDAR
