BEGIN:VCALENDAR
VERSION:2.0
PRODID:-//ChamberMaster//Event Calendar 2.0//EN
METHOD:PUBLISH
X-PUBLISHED-TTL:P3D
REFRESH-INTERVAL:P3D
CALSCALE:GREGORIAN
BEGIN:VEVENT
DTSTART:20251016T210000Z
DTEND:20251016T230000Z
X-MICROSOFT-CDO-ALLDAYEVENT:FALSE
SUMMARY:AACC Presents: The Exchange Networking Event!
DESCRIPTION:The Exchange Networking Event\n\nOctober 16th\, 2025 | 5 7 PM | Priv e on Elm (1905 Elm St\, Cincinnati\, OH 45202)\n\n  Not your average networking night.  \n\nAt The Exchange\, we're breaking the ice and breaking the mold so you actually connect. With round robin networking and interactive ice breakers\, you'll leave with more than just business cards you'll leave with real connections\, new ideas\, and maybe your next collaboration.\n\n  Your ticket includes a complimentary drink & lite bites.\n\n  Expect energy\, opportunity\, and a room full of small business owners ready to grow together.\n\n   Tickets:\n\n\n	\n	Members: $10\n	\n	\n	Non-Members: $20
X-ALT-DESC;FMTTYPE=text/html:<p data-end="79" data-start="0">&nbsp\;</p>\n\n<p data-end="363" data-start="242"><span style="font-size:16px\;"><strong data-end="275" data-start="242">The Exchange Networking Event</strong><br data-end="278" data-start="275" />\n<strong data-end="361" data-start="278">October 16th\, 2025 | 5&ndash\;7 PM | Priv&eacute\;e on Elm (1905 Elm St\, Cincinnati\, OH 45202)</strong></span></p>\n\n<p data-end="405" data-start="365"><span style="font-size:16px\;">&#10024\; Not your average networking night. &#10024\;</span></p>\n\n<p data-end="695" data-start="407"><span style="font-size:16px\;">At <strong data-end="426" data-start="410">The Exchange</strong>\, we&rsquo\;re breaking the ice and breaking the mold&mdash\;so you actually connect. With <strong data-end="529" data-start="503">round robin networking</strong> and <strong data-end="562" data-start="534">interactive ice breakers</strong>\, you&rsquo\;ll leave with more than just business cards&mdash\;you&rsquo\;ll leave with real connections\, new ideas\, and maybe your next collaboration.</span></p>\n\n<p data-end="856" data-start="697"><span style="font-size:16px\;">&#127865\; Your ticket includes a complimentary drink &amp\; lite bites.<br data-end="759" data-start="756" />\n&#128161\; Expect energy\, opportunity\, and a room full of small business owners ready to grow together.</span></p>\n\n<p data-end="872" data-start="858"><span style="font-size:16px\;">&#127903\;&#65039\; Tickets:</span></p>\n\n<ul data-end="910" data-start="873">\n	<li data-end="889" data-start="873">\n	<p data-end="889" data-start="875"><span style="font-size:16px\;">Members: $10</span></p>\n	</li>\n	<li data-end="910" data-start="890">\n	<p data-end="910" data-start="892"><span style="font-size:16px\;">Non-Members: $20</span></p>\n	</li>\n</ul>\n
LOCATION:Privee on Elm 1905 Elm St Cincinnati OH 45202
UID:e.717.8075
SEQUENCE:3
DTSTAMP:20260421T211519Z
URL:https://members.theaachamber.com/events/details/aacc-presents-the-exchange-networking-event-8075
END:VEVENT

END:VCALENDAR
