BEGIN:VCALENDAR
VERSION:2.0
PRODID:-//ChamberMaster//Event Calendar 2.0//EN
METHOD:PUBLISH
X-PUBLISHED-TTL:P3D
REFRESH-INTERVAL:P3D
CALSCALE:GREGORIAN
BEGIN:VEVENT
DTSTART:20251022T150000Z
DTEND:20251022T170000Z
X-MICROSOFT-CDO-ALLDAYEVENT:FALSE
SUMMARY:AACC Presents: The Content Blueprint: Build Videos with Impact for your Brand
DESCRIPTION:Video Blueprint Workshop: Create Videos That WOW!\n\nTurn your ideas into videos that connect\, convert\, and captivate!\n\nEvent Description:\n\nThis hands-on workshop helps small business owners uncover the hidden obstacles holding back their video content and shows you how to craft stories that truly resonate with your audience. You'll walk away with a clear\, personalized roadmap to produce consistent\, impactful videos without the guesswork or overwhelm. Learn how to streamline your workflow\, save time\, and create content that builds your brand and grows your business.\n\n  What you'll get:\n\n\n	\n	  Identify & tackle video roadblocks\n	\n	\n	  Craft stories that truly resonate\n	\n	\n	   Build your personalized video roadmap\n	\n	\n	   Streamline your workflow & save time\n	\n\n\n  Leave confident\, creative\, and ready to make videos that wow your audience every time!\n\n\nDamian Grey is the founder and lead instructor at FilmStory\, a video production and education company\n\nnow based in Cincinnati\, Ohio. With over a decade of experience in visual storytelling\, Damian transitioned\n\nfrom a background in music production to videography\, discovering his passion for capturing compelling narratives.\n\nAt FilmStory\, he specializes in helping businesses\, nonprofits\, and individuals craft authentic\, customer-focused video\n\ncontent that resonates and drives engagement. Beyond production\, Damian is dedicated to community development\,\n\noffering mentorship and internship opportunities to aspiring content creators. His approach emphasizes clarity\, confidence\,\n\nand connection\, making him a sought-after workshop & hand-on leader for those looking to harness the power of storytelling\n\nin their marketing efforts.
X-ALT-DESC;FMTTYPE=text/html:<p data-end="240" data-start="112"><span style="font-size:16px\;"><strong data-end="168" data-start="112">&#127916\; Video Blueprint Workshop: Create Videos That WOW!</strong><br data-end="171" data-start="168" />\n<em data-end="238" data-start="171">Turn your ideas into videos that connect\, convert\, and captivate!</em></span></p>\n\n<p data-end="701" data-start="242"><strong data-end="264" data-start="242">Event Description:</strong><br data-end="267" data-start="264" />\nThis hands-on workshop helps small business owners uncover the hidden obstacles holding back their video content and shows you how to craft stories that truly resonate with your audience. You&rsquo\;ll walk away with a clear\, personalized roadmap to produce consistent\, impactful videos&mdash\;without the guesswork or overwhelm. Learn how to streamline your workflow\, save time\, and create content that builds your brand and grows your business.</p>\n\n<p data-end="727" data-start="703">&#10024\; <strong data-end="725" data-start="705">What you&rsquo\;ll get:</strong></p>\n\n<ul data-end="900" data-start="728">\n	<li data-end="769" data-start="728">\n	<p data-end="769" data-start="730">&#128679\; Identify &amp\; tackle video roadblocks</p>\n	</li>\n	<li data-end="810" data-start="770">\n	<p data-end="810" data-start="772">&#128161\; Craft stories that truly resonate</p>\n	</li>\n	<li data-end="856" data-start="811">\n	<p data-end="856" data-start="813">&#128506\;&#65039\; Build your personalized video roadmap</p>\n	</li>\n	<li data-end="900" data-start="857">\n	<p data-end="900" data-start="859">&#9201\;&#65039\; Streamline your workflow &amp\; save time</p>\n	</li>\n</ul>\n\n<p data-end="993" data-start="902">&#127919\; Leave confident\, creative\, and ready to make videos that wow your audience every time!</p>\n<br />\n<span style="font-size:14px\;"><span style="font-family: Figtree\, Roboto\, &quot\;Noto Sans Hebrew&quot\;\, &quot\;Noto Kufi Arabic&quot\;\, &quot\;Noto Sans JP&quot\;\, sans-serif\; white-space: pre\;">Damian Grey is the founder and lead instructor at FilmStory\, a video production and education company<br />\nnow based in Cincinnati\, Ohio. With over a decade of experience in visual storytelling\, Damian transitioned<br />\nfrom a background in music production to videography\, discovering his passion for capturing compelling narratives.<br />\nAt FilmStory\, he specializes in helping businesses\, nonprofits\, and individuals craft authentic\, customer-focused video<br />\ncontent that resonates and drives engagement. Beyond production\, Damian is dedicated to community development\,<br />\noffering mentorship and internship opportunities to aspiring content creators. His approach emphasizes clarity\, confidence\,<br />\nand connection\, making him a sought-after workshop &amp\; hand-on leader for those looking to harness the power of storytelling<br />\nin their marketing efforts.</span></span>
LOCATION:2303 Gilbert Ave
UID:e.717.8078
SEQUENCE:3
DTSTAMP:20260421T221240Z
URL:https://members.theaachamber.com/events/details/aacc-presents-the-content-blueprint-build-videos-with-impact-for-your-brand-8078
END:VEVENT

END:VCALENDAR
