BEGIN:VCALENDAR
VERSION:2.0
PRODID:-//ChamberMaster//Event Calendar 2.0//EN
METHOD:PUBLISH
X-PUBLISHED-TTL:P3D
REFRESH-INTERVAL:P3D
CALSCALE:GREGORIAN
BEGIN:VEVENT
DTSTART:20260312T193000Z
DTEND:20260312T210000Z
X-MICROSOFT-CDO-ALLDAYEVENT:FALSE
SUMMARY:AACC Presents: How'd They Do That (GCF)
DESCRIPTION:How'd They Do That? Featuring Garri Davis  \n\nJoin us for an inspiring and powerful conversation with Garri Davis\, Cincinnati-based entrepreneur\, CEO\, author\, and transformational leader who knows firsthand what it takes to build\, scale\, and lead with purpose. From launching the Water Lily Learning Center to leading the Garri Davis Agency\, Garri has turned vision into impact\, and now she's pulling back the curtain on how she did it.\n\nAt this How'd They Do That event\, Garri will share her journey\, lessons learned\, and real-world insights on leadership\, business growth\, and navigating entrepreneurship with confidence and resilience. Attendees will gain valuable takeaways\, fresh perspective\, and motivation to apply to their own business or career path.\n\nWhether you're an entrepreneur\, business owner\, leader\, or aspiring change-maker\, this is your chance to learn from a powerhouse who is not only building successful organizations\, but creating pathways for others to rise.\n\nCome ready to learn\, ask questions\, and leave inspired to take your next bold step.
X-ALT-DESC;FMTTYPE=text/html:<p data-end="223" data-start="170"><span style="font-size:16px\;">&#128293\; <strong data-end="218" data-start="173">How&rsquo\;d They Do That? Featuring Garri Davis</strong> &#128293\;</span></p>\n\n<p data-end="628" data-start="225">Join us for an inspiring and powerful conversation with <strong data-end="296" data-start="281">Garri Davis</strong>\, Cincinnati-based entrepreneur\, CEO\, author\, and transformational leader who knows firsthand what it takes to build\, scale\, and lead with purpose. From launching the <strong data-end="493" data-start="463">Water Lily Learning Center</strong> to leading the <strong data-end="531" data-start="509">Garri Davis Agency</strong>\, Garri has turned vision into impact\, and now she&rsquo\;s pulling back the curtain on <em data-end="627" data-start="611">how she did it</em>.</p>\n\n<p data-end="953" data-start="630">At this <em data-end="658" data-start="638">How&rsquo\;d They Do That</em> event\, Garri will share her journey\, lessons learned\, and real-world insights on leadership\, business growth\, and navigating entrepreneurship with confidence and resilience. Attendees will gain valuable takeaways\, fresh perspective\, and motivation to apply to their own business or career path.</p>\n\n<p data-end="1175" data-start="955">Whether you&rsquo\;re an entrepreneur\, business owner\, leader\, or aspiring change-maker\, this is your chance to learn from a powerhouse who is not only building successful organizations\, but creating pathways for others to rise.</p>\n\n<p data-end="1262" data-is-last-node="" data-is-only-node="" data-start="1177">Come ready to learn\, ask questions\, and leave inspired to take your next bold step. &#10024\;</p>\n
LOCATION:2303 Gilbert Ave Cincinnati\, Ohio 45206
UID:e.717.8096
SEQUENCE:3
DTSTAMP:20260425T230419Z
URL:https://members.theaachamber.com/events/details/aacc-presents-how-d-they-do-that-gcf-8096
END:VEVENT

END:VCALENDAR
