BEGIN:VCALENDAR
VERSION:2.0
PRODID:-//ChamberMaster//Event Calendar 2.0//EN
METHOD:PUBLISH
X-PUBLISHED-TTL:P3D
REFRESH-INTERVAL:P3D
CALSCALE:GREGORIAN
BEGIN:VEVENT
DTSTART:20260514T170000Z
DTEND:20260514T190000Z
X-MICROSOFT-CDO-ALLDAYEVENT:FALSE
SUMMARY:AACC Presents: Digital Growth Lab: AI\, Branding and Website Essentials
DESCRIPTION:
X-ALT-DESC;FMTTYPE=text/html:
LOCATION:2303 Gilbert Ave
UID:e.717.8218
SEQUENCE:3
DTSTAMP:20260421T232907Z
URL:https://members.theaachamber.com/events/details/aacc-presents-digital-growth-lab-ai-branding-and-website-essentials-8218
END:VEVENT

END:VCALENDAR
