BEGIN:VCALENDAR
VERSION:2.0
PRODID:-//ChamberMaster//Event Calendar 2.0//EN
METHOD:PUBLISH
X-PUBLISHED-TTL:P3D
REFRESH-INTERVAL:P3D
CALSCALE:GREGORIAN
BEGIN:VEVENT
DTSTART:20250430T160000Z
DTEND:20250430T170000Z
X-MICROSOFT-CDO-ALLDAYEVENT:FALSE
SUMMARY:AACC Presents: Decoding The Economic Agenda
DESCRIPTION:Guest Speaker: Bowdeya Tweh\n\nChicago Bureau Chief\, The Wall Street Journal\n\nJoin us for an exclusive virtual conversation with Bowdeya Tweh\, Chicago Bureau Chief of The Wall Street Journal\, on April 30th via Zoom!\n\nIn this timely and insightful session\, Bowdeya will break down the economic landscape as it relates to the past\, present\, and future. With a wealth of experience covering national economic trends and business news\, he'll offer valuable perspective on how these dynamics are shaping both our region and the broader U.S. market.\n\nWhether you're a business owner\, investor\, or just curious about what lies ahead\, this is a can't-miss opportunity to hear from one of the top editorial voices in the country.\n\n  Date: April 30th\n\n  Time: 12:00 p.m. - 1:00 p.m.\n\n  Location: Zoom (link will be provided upon registration)\n\n  All are welcome   bring your questions and join the conversation!\n\n\nZoom Event Link\n\nTopic: AACC Presents: Bowdeya Tweh\n\nTime: Apr 30\, 2025 12:00 PM Eastern Time (US and Canada)\n\nJoin Zoom Meeting\n\nhttps://us02web.zoom.us/j/84011214015?pwd=GYTe83qAzvsF1riqav5AXLpaA1QdTz.1\n\nMeeting ID: 840 1121 4015\n\nPasscode: 2303\n\n\n\nFind your local number: https://us02web.zoom.us/u/kbf8fARm8K
X-ALT-DESC;FMTTYPE=text/html:Guest Speaker:&nbsp\;<span style="color:#006400\;"><span style="font-family:arial\;"><strong><span style="font-size:16px\;">Bowdeya Tweh<br />\nChicago Bureau Chief\, The Wall Street Journal</span></strong></span></span>\n\n<p>Join us for an exclusive virtual conversation with <strong>Bowdeya Tweh</strong>\, <strong>Chicago Bureau Chief</strong><strong>&nbsp\;of <em>The Wall Street Journal</em></strong>\, on <strong>April 30th</strong> via Zoom!</p>\n\n<p>In this timely and insightful session\, Bowdeya will break down the economic landscape as it relates to the past\, present\, and future. With a wealth of experience covering national economic trends and business news\, he&rsquo\;ll offer valuable perspective on how these dynamics are shaping both our region and the broader U.S. market.</p>\n\n<p>Whether you&#39\;re a business owner\, investor\, or just curious about what lies ahead\, this is a can&rsquo\;t-miss opportunity to hear from one of the top editorial voices in the country.</p>\n\n<p>&#128197\; <strong>Date:</strong> April 30th<br />\n&#128336\; <strong>Time:</strong>&nbsp\;12:00 p.m. - 1:00 p.m.<br />\n&#128205\; <strong>Location:</strong> Zoom (link will be provided upon registration)</p>\n\n<p><span style="color:#006400\;"><strong>&#128188\; All are welcome &mdash\; bring your questions and join the conversation!</strong></span></p>\n<br />\n<span style="font-size:14px\;"><u><strong>Zoom Event Link</strong></u></span><br />\nTopic: AACC Presents: Bowdeya Tweh<br />\nTime: Apr 30\, 2025 12:00 PM Eastern Time (US and Canada)<br />\nJoin Zoom Meeting<br />\n<a href="https://us02web.zoom.us/j/84011214015?pwd=GYTe83qAzvsF1riqav5AXLpaA1QdTz.1">https://us02web.zoom.us/j/84011214015?pwd=GYTe83qAzvsF1riqav5AXLpaA1QdTz.1</a><br />\nMeeting ID: 840 1121 4015<br />\nPasscode: 2303<br />\n<br />\nFind your local number: <a href="https://us02web.zoom.us/u/kbf8fARm8K">https://us02web.zoom.us/u/kbf8fARm8K</a>
LOCATION:Virtual Via Zoom
UID:e.717.7892
SEQUENCE:3
DTSTAMP:20260421T115608Z
URL:https://members.theaachamber.com/events/details/aacc-presents-decoding-the-economic-agenda-7892
END:VEVENT

END:VCALENDAR
