BEGIN:VCALENDAR
VERSION:2.0
PRODID:-//ChamberMaster//Event Calendar 2.0//EN
METHOD:PUBLISH
X-PUBLISHED-TTL:P3D
REFRESH-INTERVAL:P3D
CALSCALE:GREGORIAN
BEGIN:VEVENT
DTSTART:20250417T210000Z
DTEND:20250418T000000Z
X-MICROSOFT-CDO-ALLDAYEVENT:FALSE
SUMMARY:AACC & Green Day Group Presents: The Exchange & The Art of Networking Collab Event!
DESCRIPTION:Join us for a powerful evening of connection\, collaboration\, and community impact at our quarterly collab edition of The Exchange & The Art of Networking! Especially curated to create a meaningful and impactful evening.\n\nHosted by the African American Chamber of Commerce and Green Day Group\, this high-energy experience is for professionals and entrepreneurs looking to level up their network and resources. From our exclusive VIP keynote speaker to interactive panel discussion\, and our signature Round Robin introductions\, this event is designed to leave you empowered.\n\n \n\nMCs: Danielle Thompson\, MBAC Certification Specialist\, Nina Crayon\, MBA & Kam\, The Voice\n\n\n\nVIP Keynote Speaker: Cynthia Booth\, CEO of Emerge Manufacturing\n\n\n\nPanelists: TBD\n\n\n\nAgenda:\n\n5 pm - VIP check-in/registration\n\n5:30 pm - Kick off\n\n5:45 pm - VIP Keynote Speaker\n\n6:15 pm - Q&A\n\n6:30 pm - AACC Membership and engagement table & networking\n\n7:00 pm - Panel Discussion\n\n7:30 pm - Round Robin\n\n8:00 pm - Raffle and closing
X-ALT-DESC;FMTTYPE=text/html:<p><span style="font-family:tahoma\,sans-serif\;"><span style="font-size:11.0pt\;">Join us for a powerful evening of connection\, collaboration\, and community impact at our <em>quarterly collab edition</em> of The Exchange &amp\; The Art of Networking! Especially curated to create a meaningful and impactful evening.</span></span><br />\n<span style="font-family:tahoma\,sans-serif\;"><span style="font-size:11.0pt\;">Hosted by the African American Chamber of Commerce and Green Day Group\, this high-energy experience is for professionals and entrepreneurs looking to level up their network and resources. From our exclusive VIP keynote speaker to interactive panel discussion\, and our signature Round Robin introductions\, this event is designed to leave you empowered.</span></span><br />\n&nbsp\;</p>\n\n<p><strong><span style="font-family:tahoma\,sans-serif\;"><span style="font-size:11.0pt\;">MCs</span></span></strong><span style="font-family:tahoma\,sans-serif\;"><span style="font-size:11.0pt\;">: Danielle Thompson\, MBAC Certification Specialist\, Nina Crayon\, MBA &amp\; Kam\, The Voice</span></span><br />\n<br />\n<strong><span style="font-family:tahoma\,sans-serif\;"><span style="font-size:11.0pt\;">VIP Keynote Speaker</span></span></strong><span style="font-family:tahoma\,sans-serif\;"><span style="font-size:11.0pt\;">: Cynthia Booth\, CEO of Emerge Manufacturing</span></span><br />\n<br />\n<strong><span style="font-family:tahoma\,sans-serif\;"><span style="font-size:11.0pt\;">Panelists</span></span></strong><span style="font-family:tahoma\,sans-serif\;"><span style="font-size:11.0pt\;">: TBD</span></span><br />\n<br />\n<strong><span style="font-family:tahoma\,sans-serif\;"><span style="font-size:11.0pt\;">Agenda</span></span></strong><span style="font-family:tahoma\,sans-serif\;"><span style="font-size:11.0pt\;">:</span></span><br />\n<span style="font-family:tahoma\,sans-serif\;"><span style="font-size:11.0pt\;">5 pm - VIP check-in/registration</span></span><br />\n<span style="font-family:tahoma\,sans-serif\;"><span style="font-size:11.0pt\;">5:30 pm - Kick off</span></span><br />\n<span style="font-family:tahoma\,sans-serif\;"><span style="font-size:11.0pt\;">5:45 pm - VIP Keynote Speaker</span></span><br />\n<span style="font-family:tahoma\,sans-serif\;"><span style="font-size:11.0pt\;">6:15 pm - Q&amp\;A</span></span><br />\n<span style="font-family:tahoma\,sans-serif\;"><span style="font-size:11.0pt\;">6:30 pm - AACC Membership and engagement table &amp\;&nbsp\;networking</span></span><br />\n<span style="font-family:tahoma\,sans-serif\;"><span style="font-size:11.0pt\;">7:00 pm - Panel Discussion</span></span><br />\n<span style="font-family:tahoma\,sans-serif\;"><span style="font-size:11.0pt\;">7:30 pm - Round Robin</span></span><br />\n<span style="font-family:tahoma\,sans-serif\;"><span style="font-size:11.0pt\;">8:00 pm - Raffle and closing</span></span><br />\n&nbsp\;</p>\n
LOCATION:Privee on Elm\, 1905 Elm St\, Cincinnati\, OH 45202
UID:e.717.7893
SEQUENCE:3
DTSTAMP:20260421T115921Z
URL:https://members.theaachamber.com/events/details/aacc-green-day-group-presents-the-exchange-the-art-of-networking-collab-event-7893
END:VEVENT

END:VCALENDAR
